BEGIN:VCALENDAR
VERSION:2.0
PRODID:-//Ananda Marga - ECPv6.15.20//NONSGML v1.0//EN
CALSCALE:GREGORIAN
METHOD:PUBLISH
X-ORIGINAL-URL:https://india.anandamarga.org
X-WR-CALDESC:Events for Ananda Marga
REFRESH-INTERVAL;VALUE=DURATION:PT1H
X-Robots-Tag:noindex
X-PUBLISHED-TTL:PT1H
BEGIN:VTIMEZONE
TZID:UTC
BEGIN:STANDARD
TZOFFSETFROM:+0000
TZOFFSETTO:+0000
TZNAME:UTC
DTSTART:20250101T000000
END:STANDARD
END:VTIMEZONE
BEGIN:VEVENT
DTSTART;VALUE=DATE:20260215
DTEND;VALUE=DATE:20260216
DTSTAMP:20260420T212606
CREATED:20260117T170707Z
LAST-MODIFIED:20260117T171029Z
UID:4839-1771113600-1771199999@india.anandamarga.org
SUMMARY:1st Phase Diocese Seminar – Delhi Sector Spiritual Awakening & Social Transformation Program
DESCRIPTION:The 1st Phase Diocese Seminar is being organized across the Delhi Sector during the months of January and February\, under the guidance of a Central Trainer appointed by the ISMUB Department of Ananda Marga Pracaraka Samgha. \nThis seminar aims to inspire holistic development by integrating spiritual practice\, social service\, and cultural upliftment\, rooted in the universal philosophy of Ananda Marga. \nThe program includes: \nSocial & Spiritual Philosophy Classes \nYoga and Meditation Sessions \nRenaissance Symposium \nRAWA Cultural Events \nPrabhat Samgiita (Devotional Songs) \nKiirtan & Sadhana \nPrabhat Pheri \nLocal Pracar & DDC Seminar Activities \nThrough disciplined spiritual practices\, intellectual discussions\, and vibrant cultural expressions\, the seminar seeks to awaken higher consciousness\, strengthen moral values\, and encourage service-oriented leadership in society. \nAll Margiis\, sympathizers\, and spiritual aspirants are warmly invited to participate and contribute to this collective movement for self-realization and social well-being.
URL:https://india.anandamarga.org/event/1st-phase-diocese-seminar-delhi-sector-spiritual-awakening-social-transformation-program/
LOCATION:Ananda Marga Centers
CATEGORIES:Seminar,Yoga Sadhana Shivira
ATTACH;FMTTYPE=image/jpeg:https://india.anandamarga.org/wp-content/uploads/2026/01/WhatsApp-Image-2026-01-17-at-22.30.15.jpeg
END:VEVENT
END:VCALENDAR