BEGIN:VCALENDAR
VERSION:2.0
PRODID:-//Ananda Marga - ECPv6.15.20//NONSGML v1.0//EN
CALSCALE:GREGORIAN
METHOD:PUBLISH
X-WR-CALNAME:Ananda Marga
X-ORIGINAL-URL:https://india.anandamarga.org
X-WR-CALDESC:Events for Ananda Marga
REFRESH-INTERVAL;VALUE=DURATION:PT1H
X-Robots-Tag:noindex
X-PUBLISHED-TTL:PT1H
BEGIN:VTIMEZONE
TZID:UTC
BEGIN:STANDARD
TZOFFSETFROM:+0000
TZOFFSETTO:+0000
TZNAME:UTC
DTSTART:20240101T000000
END:STANDARD
END:VTIMEZONE
BEGIN:VEVENT
DTSTART;VALUE=DATE:20250307
DTEND;VALUE=DATE:20250310
DTSTAMP:20260421T160251
CREATED:20250104T183412Z
LAST-MODIFIED:20250104T184133Z
UID:3795-1741305600-1741564799@india.anandamarga.org
SUMMARY:DMS in Babanagar Jamalpur
DESCRIPTION:Welcome all devotees in Dharma MahaSammelan at Babanagar\, Jamalpur from 7th to 9th March 2025.\n\n\nIt is revered as the sacred birthplace of Tarak Brahma\, Reverend Shrii Shrii Anandamurti ji. The Dharma Maha Sammelan is organised by Ananda Marga Pracaraka Samgha. It is frequently organized.\n\n\n\nVenue: Ananda Sambhuti\, (Baba Nagar)\nAmjhar Road\, Kolkali\, Jamalpur\, District Munger\, Bihar\, Pin 811214.
URL:https://india.anandamarga.org/event/dms-in-babanagar-jamalpur-2/
LOCATION:Ananda Sambhuti Master Unit\, Babanagar\, Jamalpur\, Ánanda Sambhuti Master Unit\, Amjhar Kolkali Road\, PO Dharhara Jamalpur Munger District Bihar 811212\, India\, Jamalpur\, Bihar\, 811212\, India
CATEGORIES:DMS Babanagar
ATTACH;FMTTYPE=image/jpeg:https://india.anandamarga.org/wp-content/uploads/2025/01/Jamalpur-DMS-scaled.jpg
END:VEVENT
END:VCALENDAR