BEGIN:VCALENDAR
VERSION:2.0
PRODID:-//Ananda Marga - ECPv6.15.20//NONSGML v1.0//EN
CALSCALE:GREGORIAN
METHOD:PUBLISH
X-ORIGINAL-URL:https://india.anandamarga.org
X-WR-CALDESC:Events for Ananda Marga
REFRESH-INTERVAL;VALUE=DURATION:PT1H
X-Robots-Tag:noindex
X-PUBLISHED-TTL:PT1H
BEGIN:VTIMEZONE
TZID:UTC
BEGIN:STANDARD
TZOFFSETFROM:+0000
TZOFFSETTO:+0000
TZNAME:UTC
DTSTART:20230101T000000
END:STANDARD
END:VTIMEZONE
BEGIN:VEVENT
DTSTART;VALUE=DATE:20240109
DTEND;VALUE=DATE:20240110
DTSTAMP:20260425T222020
CREATED:20231229T064754Z
LAST-MODIFIED:20231229T064754Z
UID:2186-1704758400-1704844799@india.anandamarga.org
SUMMARY:Ananda Marga Foundation Day
DESCRIPTION:Bábá Nagar Jamalpur – Center of Spiritual power\, The birthplace of Bábá\, Shrii Shrii Ánandamúrti Jii Invites You All on the Very Occasion of Ananda Marga Foundation Day Celebration on 9th January 2024. 
URL:https://india.anandamarga.org/event/ananda-marga-foundation-day/
LOCATION:Ananda Sambhuti Master Unit\, Babanagar\, Jamalpur\, Ánanda Sambhuti Master Unit\, Amjhar Kolkali Road\, PO Dharhara Jamalpur Munger District Bihar 811212\, India\, Jamalpur\, Bihar\, 811212\, India
CATEGORIES:Ananda Marga Foundation Day
ATTACH;FMTTYPE=image/png:https://india.anandamarga.org/wp-content/uploads/2023/12/Ananda-Marga-Foundation-Day-2024.png
END:VEVENT
END:VCALENDAR