BEGIN:VCALENDAR
VERSION:2.0
PRODID:-//Ananda Marga - ECPv6.15.20//NONSGML v1.0//EN
CALSCALE:GREGORIAN
METHOD:PUBLISH
X-WR-CALNAME:Ananda Marga
X-ORIGINAL-URL:https://india.anandamarga.org
X-WR-CALDESC:Events for Ananda Marga
REFRESH-INTERVAL;VALUE=DURATION:PT1H
X-Robots-Tag:noindex
X-PUBLISHED-TTL:PT1H
BEGIN:VTIMEZONE
TZID:UTC
BEGIN:STANDARD
TZOFFSETFROM:+0000
TZOFFSETTO:+0000
TZNAME:UTC
DTSTART:20210101T000000
END:STANDARD
END:VTIMEZONE
BEGIN:VTIMEZONE
TZID:Asia/Kolkata
BEGIN:STANDARD
TZOFFSETFROM:+0530
TZOFFSETTO:+0530
TZNAME:IST
DTSTART:20220101T000000
END:STANDARD
END:VTIMEZONE
BEGIN:VEVENT
DTSTART;VALUE=DATE:20231027
DTEND;VALUE=DATE:20231030
DTSTAMP:20260420T000237
CREATED:20230609T082241Z
LAST-MODIFIED:20231013T005638Z
UID:884-1698364800-1698623999@india.anandamarga.org
SUMMARY:Dharma MahaSammelan At Babanagar\, Jamalpur
DESCRIPTION:Ananda Marga Dharma MahaSammelan\, Jamalpur\nANANDA MARGA PRACARAKA SAMGHA welcomes you all to DHARMA MAHA SAMMELAN which is going to be held in Babanagar(Jamalpur)\, the Birthplace of Revered Marga Gurudev Shrii Shrii Ánandamúrti Jii\, Dated October 27th\, 28th\, and 29th 2023. \nThe Dharma Pracara department of Ananda Marga Pracaraka Samgha (Central) is pleased to invite all the Margiis brothers & sisters to come in a large numbers to attend the DMS. DMS is always a perennial source of bliss & inspiration for the devotees\, so please come with all family members and other Margiis brothers and sisters of the respective areas. The BP\, UBPs\, and Unit Secretaries are requested to inspire all Margiis to attend the DMS. \n 
URL:https://india.anandamarga.org/event/dharma-mahasammelan-at-babanagar-jamalpur/
LOCATION:Ananda Sambhuti Master Unit\, Babanagar\, Jamalpur\, Ánanda Sambhuti Master Unit\, Amjhar Kolkali Road\, PO Dharhara Jamalpur Munger District Bihar 811212\, India\, Jamalpur\, Bihar\, 811212\, India
CATEGORIES:DMS
ATTACH;FMTTYPE=image/jpeg:https://india.anandamarga.org/wp-content/uploads/2023/06/WhatsApp-Image-2023-06-09-at-12.13.04-PM.jpeg
END:VEVENT
BEGIN:VEVENT
DTSTART;TZID=UTC:20230925T080000
DTEND;TZID=UTC:20230930T170000
DTSTAMP:20260420T000237
CREATED:20230624T161534Z
LAST-MODIFIED:20230805T170123Z
UID:1373-1695628800-1696093200@india.anandamarga.org
SUMMARY:RU RAWA Global Festival 2023
DESCRIPTION:RU RAWA presents Global Art Festival. RAWA mega auditions across different parts of India. Inviting all artists to participate for RU RAWA “Mitti Ki Khusboo” India Grand Festival. \n“When artists\, absorbed in the essence of love\, try to convey it to the people through their language\, rhetoric and subtle suggestions\, the sweetness of their artistic genius reaches the apex of expression.” \n– Shrii Shrii Anandamurti Jii \nGet ready to be a part of the extraordinary “Mitti Ki Khusboo” Global Art Fest – RAWA Icon 2023! \nAuditions have already begun for singing\, dancing\, acting\, and Yoga\, and we want YOU to be a star at RAWA! Don’t miss your chance to shine in your nearest city\, as RAWA takes place not only across India but also abroad! \nThis year\, we’re taking RAWA to new heights! The majestic “Pink City” of Jaipur will be our host for RAWA National\, while the breathtaking beauty of Anandanagar during winter DMS will witness RAWA International!
URL:https://india.anandamarga.org/event/ru-rawa-global-festival-2023/
LOCATION:RU/RAWA Clubs
CATEGORIES:RU/RAWA
ATTACH;FMTTYPE=image/jpeg:https://india.anandamarga.org/wp-content/uploads/2023/06/WhatsApp-Image-2023-08-03-at-12.51.40-PM.jpeg
END:VEVENT
BEGIN:VEVENT
DTSTART;VALUE=DATE:20230830
DTEND;VALUE=DATE:20230831
DTSTAMP:20260420T000237
CREATED:20230826T083701Z
LAST-MODIFIED:20230830T015240Z
UID:1862-1693353600-1693439999@india.anandamarga.org
SUMMARY:Shrávańii Púrńima 2023
DESCRIPTION:The accumulated distortions of many lifetimes cannot be removed in the twinkling of an eye. The removal of these distortions requires prolonged cultivation of knowledge\, selfless devotion\, and untiring action. The world expects tremendous work from you; so you must not sit idle like a frog in a well under the spell of inertia. Therefore awake\, arise. \n– Shrii Shrii Anandamurti Jii \nBaba personally narrates the incident of Shrávańii Púrńimá 1939\, when he given the first spiritual initiation to Kalicharan:\nThis is Shrávańii Púrńimá. It is an important day. Then I was very young\, studying in Vidyasagar College in Calcutta. One evening a very interesting event took place. Suddenly a wicked person came near me. I use the word “wicked”\, but it is not a permanent state of human beings. A person who is wicked today may be a noble person tomorrow\, and one who is dull or stupid today may be wise tomorrow. These are all relative matters bound by the bondages of relativity. No one can be called permanently wicked. It should always be borne in mind that one should always try to develop the good and the subtle in a wicked person. That evening a certain wicked person came to me. What could he expect from me? But then he came. In accordance with natural human psychology\, I asked him\, “What do you want? Why do you adopt this evil path?” In the course of our conversation\, he realized that he should change the course of his life\, and he took initiation. That was the first spiritual initiation I ever imparted to anyone. And that same day\, Shrávańii Púrnima\, has again returned. A long time has elapsed since then. That was perhaps in 1939. This all took place 41 years ago. You must try to arouse the seed of benevolence that lies hidden in the inner recesses of the human mind. How can this seed be aroused? Human beings will have to apply all sorts of measures – persuasion\, scolding etc.; and at the same time you will have to continue your efforts so that the dormant seeds of psychic potentialities express themselves. And with their expression\, the whole society will be benefited. Today human beings must be inspired and motivated\, and thus discipline is essential. To impose discipline is not bad. It has been said in the scriptures: Hitarthe shásanam ityarthe anushásanam. “That discipline which leads to the welfare of all human beings is called anushásanam.” Society requires enforced discipline. In the scriptures it is also said: Nigrahánugrahe shakto gururityabhidhiyate: “One who is capable of punishing or rewarding oneʼs followers is called a Guru\, a true teacher”. Only one who can discipline as well as love a person\, can be called a Guru. \n— Baba’s Discourse on Shrávańii Púrńimá – August 25\, 1980 \nHow to Celebrate Shrávańii Púrńima\nThe full-moon day of Shrávána. It celebrates the day of the first initiation given by Shrii Shrii Ánandamúrtijii. \nTwice collective Iishvara Prańidhána and Varńárghyadána\, collective noon and night meals\, merry celebrations\, spiritual conferences\, literary meetings\, procession with táńd́ava dance in the afternoon. \n  \nSHRÁVAŃII PURŃIMÁR KATHÁ || Prabhat Samgiita #4954 || Ananda Marga\nSHRÁVAŃII PURŃIMÁR KATHÁ\nÁJ MANE PAŔE\nÁJ KE MANE PAŔE BANDHU\nÁJ KE MANE PAŔE\nÁJ MANE PAŔE \nMANE PAŔE JAD́A CETANE\nE KII KHELÁ KARE\nÁJ MANE PAŔE \nÁKÁSH CHILO MEGHA MEDURA\nKHUSHII BHARÁ JALA DADURA\nBAHITE CHILO JÚTHII MADHURA\nPAVAN ÁVEGA BHARE\nÁJ MANE PAŔE \nJAŔE HOLO CETANA SAḾGHÁTA\nMANER MÁJHE MANTRA SAMPÁTA\nHOLO NÚTANA ÁLOKA PÁTA\nKUHELIKÁ CIIRE\nÁJ MANE PAŔE \nSHRÁVAŃII PURŃIMÁR KATHÁ\nÁJ MANE PAŔE
URL:https://india.anandamarga.org/event/shravanii-purnima-2023/
LOCATION:Ananda Marga Centers
CATEGORIES:Ananda Festivals
ATTACH;FMTTYPE=image/jpeg:https://india.anandamarga.org/wp-content/uploads/2023/08/Shravanii-purnima.jpg
END:VEVENT
BEGIN:VEVENT
DTSTART;VALUE=DATE:20230630
DTEND;VALUE=DATE:20230724
DTSTAMP:20260420T000237
CREATED:20230411T025855Z
LAST-MODIFIED:20230624T161157Z
UID:151-1688083200-1690156799@india.anandamarga.org
SUMMARY:Ananda Marga Seminar
DESCRIPTION:2nd Phase Seminar June 2023\n\n\n\n\n\n\n\n\nHighlights of the Seminar:\n1. Socio-Spiritual Philosophy Classes\n2. Yogasanas and Mystic Dances Practical training (Tandava\, Kaosikii and Asanas)\n3. Organizational Structure training – About different departments and their functions\n4. Prabhat Samgiita Class\, Nagar Kiirtan\, Cultural programme\, etc\n\n\n\nSeminar Dates\, Place\, and Trainers List\n\nSEMINAR 2nd Phase 1st Diocese 2023\n\nSeminar Notes can be downloaded from Event Website
URL:https://india.anandamarga.org/event/ananda-marga-seminar/
LOCATION:Ananda Marga Centers
CATEGORIES:Seminar
ATTACH;FMTTYPE=image/png:https://india.anandamarga.org/wp-content/uploads/2023/04/seminar.png
END:VEVENT
BEGIN:VEVENT
DTSTART;VALUE=DATE:20230612
DTEND;VALUE=DATE:20230619
DTSTAMP:20260420T000237
CREATED:20230602T123506Z
LAST-MODIFIED:20230602T123849Z
UID:759-1686528000-1687132799@india.anandamarga.org
SUMMARY:Summer Camp for Children in Jaipur
DESCRIPTION:??? ANANDA MARGA GURUKULA & RAWA JAIPUR SUMMER CAMP ??? \nDate: 12th to 18th June 2023 \nWe are delighted to announce that Ananda Marga Gurukula and RAWA Jaipur are organizing an exciting Summer Camp for Children! Join us for an unforgettable week filled with enriching experiences\, personal growth\, and loads of fun activities. \n✨ Best Practices for a Healthy Body\, Mind & Soul ✨\nDuring this camp\, we will focus on nurturing a balanced and harmonious lifestyle. Through various sessions\, we will guide children on adopting healthy habits\, including nutritious eating\, regular exercise\, and mindfulness practices. Our aim is to empower young minds to lead a fulfilling and vibrant life. \n? Personality Development through Sports\, Arts & Music ?\nWe believe in holistic development\, and that’s why our camp will provide ample opportunities for children to explore their talents. Engage in sports activities that promote teamwork and physical fitness. Unleash your creativity through art and craft workshops. Discover the joy of music and rhythm through interactive music sessions. This camp is designed to enhance confidence\, self-expression\, and overall personality development. \n? Sustainable Living & Neohumanist Education ?\nAt Ananda Marga Gurukula & RAWA Jaipur\, we are committed to creating a sustainable future. Our camp will emphasize the importance of environmental consciousness\, eco-friendly practices\, and sustainable living. We will also introduce children to the principles of Neohumanist Education\, which fosters a compassionate and inclusive worldview\, encouraging them to become responsible global citizens. \n? Date: 12th to 18th June 2023\n? Venue: Madhu-Prasun\, Ananda Marga Yoga & Meditation Center\, Pital Factory\, Jaipur \nJoin us for an unforgettable week where children will learn\, grow\, and make lasting memories. Don’t miss this opportunity to be a part of an enriching experience that will positively impact their lives. \nFor more information and registration\, please contact:\n? 9812454454\n? 9414052684\n? 7877054090\n? 8854948643 \nOrganized by Bhukti Committee Ananda Marga Pracaraka Samgha\, Jaipur. \nSpread the word\, bring your friends\, and let’s make this summer camp an extraordinary journey of self-discovery and empowerment for our children! ???
URL:https://india.anandamarga.org/event/summer-camp-for-children-in-jaipur/
LOCATION:Jaipur\, Madhu-Prasun\, Ananda Marga Yoga & Meditation Center\, Pital Factory\, Jaipur\, Rajasthan\, 302016\, India
ATTACH;FMTTYPE=image/jpeg:https://india.anandamarga.org/wp-content/uploads/2023/06/WhatsApp-Image-2023-06-02-at-5.54.06-PM.jpeg
END:VEVENT
BEGIN:VEVENT
DTSTART;VALUE=DATE:20230602
DTEND;VALUE=DATE:20230605
DTSTAMP:20260420T000237
CREATED:20230411T064018Z
LAST-MODIFIED:20230602T115609Z
UID:157-1685664000-1685923199@india.anandamarga.org
SUMMARY:Ananda Purnima DMS
DESCRIPTION:ANANDA PURNIMA Dharma MahaSammelan \nThe Dharma Pracara Department of Ánanda Márga Pracaraka Samgha (Central) wishes to invite you to attend the coming Dharma Mahá Sammelan (DMS) Scheduled to be held on 2nd\, 3rd\, and 4th June 2023 at Ananda Nagar\, Purulia\, West Bengal\, the headquarters of Ananda Márga Pracáraka Samgha. \nWe have witnessed a very large congregation of devotees on the occasion of the last many Dharma Mahásammelans held at Ananda Nagar. We have received information from different parts of the globe that a very large number of devotees are expected to attend the Dharma Mahásammelan to be held on the auspicious occasion of Ananda Purnima DMS 2023. \nIt has been decided to stage well-organized cultural programs\, more attractive public meetings\, Akhand Kiirtan\, etc. on the occasion. \nWe would like you to attend the above Dharma Mahásammelan with all your family members\, please also encourage other Margii brothers and sisters to attend this graceful event of DMS. \n 
URL:https://india.anandamarga.org/event/ananda-purnima-dms/
LOCATION:Anandanagar\, Anandanagar\, Pundag Purulia\, Anandanagar\, West Bengal\, India
CATEGORIES:DMS Anandanagar
ATTACH;FMTTYPE=image/png:https://india.anandamarga.org/wp-content/uploads/2023/04/DMS.png
END:VEVENT
BEGIN:VEVENT
DTSTART;VALUE=DATE:20230520
DTEND;VALUE=DATE:20230525
DTSTAMP:20260420T000237
CREATED:20230411T064008Z
LAST-MODIFIED:20230524T132823Z
UID:155-1684540800-1684972799@india.anandamarga.org
SUMMARY:Proutist Universal UTC
DESCRIPTION:PROUTIST UNIVERSAL Utilization Training Camp in PROUT Bhavan\, Patliputra\, Patna \nNamaskar. We are pleased to inform you about the successful Prout Utilization training camp that took place in Patna\, Bihar. Participants from the Delhi sector\, who are dedicated Prout cadres\, actively took part in this program\, which was held from the 20th to the 24th of May. The camp featured a series of enlightening classes conducted by esteemed Prout speakers\, covering various aspects of Prout ideology. These classes included discussions on the fundamental principles of Prout\, insights into different federations\, the crucial role of women in Sadvipras leadership\, strategies for achieving 100% employment\, the significance of cooperative movements\, and engaging in social-economic experiments.
URL:https://india.anandamarga.org/event/proutist-universal-utc/
LOCATION:PROUT Bhavan\, Patliputra\, Prout Bhavan 361JD Mishra Path\, New Patliputra Colony Patna-800013\, Patna\, Bihar\, 800013
ATTACH;FMTTYPE=image/jpeg:https://india.anandamarga.org/wp-content/uploads/2023/04/348946765_1697070367395167_3093987877975140747_n.jpg
END:VEVENT
BEGIN:VEVENT
DTSTART;VALUE=DATE:20221212
DTEND;VALUE=DATE:20221213
DTSTAMP:20260420T000237
CREATED:20230411T025447Z
LAST-MODIFIED:20230524T133510Z
UID:145-1670803200-1670889599@india.anandamarga.org
SUMMARY:Ananda Marga Yoga Shivir
DESCRIPTION:Ananda Marga Yoga Shivir\, 24 Hours Akhand Kiirtan & Annual Function & Mass Feeding at Ananda Marga School\, Ananda Jyoti\, Jarwa (U.P.) \nIn the Yoga Shivir Program on 12th December 2022\,  2000 Students Participated from 20 schools & colleges from Tulsipur\, Balrampur & Gonda and also attended by Margii’s came from Tulsipur\, Gonds\, Balrampur\, Gorakhpur\, Faizabad\, Gazipur\, Varanasi\, and Ranchi.\nChief Guest – Mithlesh Nath Yogi (Mahant Devipatan)\nKeynote Speaker – Ácárya Vimlánanda Avadhúta\, S.G. Society BuildingÁcárya Shubhchintánanda Avadhúta (RU RAWA Hong Kong)\, Ácárya Rudraprakashánanda Avadhúta (Sectorial Master Unit Secretary)
URL:https://india.anandamarga.org/event/ananda-marga-yoga-shivir/
LOCATION:Ananda Marga School\, Ananda Jyoti\, Jarwa\, India
ATTACH;FMTTYPE=image/jpeg:https://india.anandamarga.org/wp-content/uploads/2023/04/event.jpeg
END:VEVENT
END:VCALENDAR