BEGIN:VCALENDAR
VERSION:2.0
PRODID:-//Ananda Marga - ECPv6.15.20//NONSGML v1.0//EN
CALSCALE:GREGORIAN
METHOD:PUBLISH
X-WR-CALNAME:Ananda Marga
X-ORIGINAL-URL:https://india.anandamarga.org
X-WR-CALDESC:Events for Ananda Marga
REFRESH-INTERVAL;VALUE=DURATION:PT1H
X-Robots-Tag:noindex
X-PUBLISHED-TTL:PT1H
BEGIN:VTIMEZONE
TZID:UTC
BEGIN:STANDARD
TZOFFSETFROM:+0000
TZOFFSETTO:+0000
TZNAME:UTC
DTSTART:20240101T000000
END:STANDARD
END:VTIMEZONE
BEGIN:VEVENT
DTSTART;VALUE=DATE:20250809
DTEND;VALUE=DATE:20250810
DTSTAMP:20260420T110944
CREATED:20250806T174343Z
LAST-MODIFIED:20250806T175056Z
UID:4419-1754697600-1754783999@india.anandamarga.org
SUMMARY:श्रावणी पूर्णिमा – प्रथम दीक्षा दिवस
DESCRIPTION:The full-moon day of Shrávána. It celebrates the day of the first initiation given by Shrii Shrii Ánandamúrtijii
URL:https://india.anandamarga.org/event/shravanii-purnima-first-initiation-day/
LOCATION:Ananda Marga Centers
CATEGORIES:Ananda Festival,Shravanii Purnima
ATTACH;FMTTYPE=image/jpeg:https://india.anandamarga.org/wp-content/uploads/2025/08/WhatsApp-Image-2025-08-06-at-22.46.46_be08a97b.jpg
END:VEVENT
END:VCALENDAR