BEGIN:VCALENDAR
VERSION:2.0
PRODID:-//Ananda Marga - ECPv6.15.20//NONSGML v1.0//EN
CALSCALE:GREGORIAN
METHOD:PUBLISH
X-ORIGINAL-URL:https://india.anandamarga.org
X-WR-CALDESC:Events for Ananda Marga
REFRESH-INTERVAL;VALUE=DURATION:PT1H
X-Robots-Tag:noindex
X-PUBLISHED-TTL:PT1H
BEGIN:VTIMEZONE
TZID:UTC
BEGIN:STANDARD
TZOFFSETFROM:+0000
TZOFFSETTO:+0000
TZNAME:UTC
DTSTART:20230101T000000
END:STANDARD
END:VTIMEZONE
BEGIN:VEVENT
DTSTART;TZID=UTC:20241114T120000
DTEND;TZID=UTC:20241117T120000
DTSTAMP:20260423T070336
CREATED:20241030T171434Z
LAST-MODIFIED:20241030T171434Z
UID:3556-1731585600-1731844800@india.anandamarga.org
SUMMARY:72Hrs Akhand Kiirtan "Baba Nam Kevalam"
DESCRIPTION:All Margiis across Delhi Sector and Abroad are invited for 72Hrs Akhanda Kiirtan in Ananda Marga Jagriti\, Himmatnagar. First time in history\, 72Hrs Kiirtan going to be organized in Himmatnagar\, Gujarat. All are invited to make it blissful and pleasing to Baba. \n 
URL:https://india.anandamarga.org/event/72hrs-akhand-kiirtan-baba-nam-kevalam/
LOCATION:Ananda Marga Jagriti Himmatnagar\, Ananda Marga Dhyan Kendra\, Chandra Nagar Society\, Motipura\, Himatnagar\, India\, Gujarat\, Himmatnagar\, Gujrat\, India
CATEGORIES:Akhand Kiirtan,Baba Nam Kevalam
ATTACH;FMTTYPE=image/jpeg:https://india.anandamarga.org/wp-content/uploads/2024/10/WhatsApp-Image-2024-10-30-at-20.10.06.jpeg
END:VEVENT
END:VCALENDAR