BEGIN:VCALENDAR
VERSION:2.0
PRODID:-//Ananda Marga - ECPv6.15.20//NONSGML v1.0//EN
CALSCALE:GREGORIAN
METHOD:PUBLISH
X-ORIGINAL-URL:https://india.anandamarga.org
X-WR-CALDESC:Events for Ananda Marga
REFRESH-INTERVAL;VALUE=DURATION:PT1H
X-Robots-Tag:noindex
X-PUBLISHED-TTL:PT1H
BEGIN:VTIMEZONE
TZID:UTC
BEGIN:STANDARD
TZOFFSETFROM:+0000
TZOFFSETTO:+0000
TZNAME:UTC
DTSTART:20240101T000000
END:STANDARD
END:VTIMEZONE
BEGIN:VEVENT
DTSTART;VALUE=DATE:20251013
DTEND;VALUE=DATE:20251018
DTSTAMP:20260419T223536
CREATED:20250520T174800Z
LAST-MODIFIED:20250520T174800Z
UID:4218-1760313600-1760745599@india.anandamarga.org
SUMMARY:Bábá's Years in Jamalpur INTERNATIONAL CONFERENCE AT BÁBÁ’S BIRTHPLACE
DESCRIPTION:Join a unique event\nThe conference will take place in the sacred birthplace of our Guru \, Jamalpur\, at the serene Ánanda Sambhúti Master Unit. Designed to feel like home\, it offers comfort and a welcoming family atmosphere\, bringing Márgiis from all over the world together . The balanced program includes sádhaná\, nourishing food\, outdoor activities\, inspiring lectures and mystic stories about Bábá. We’ll also visit all the key sites of His motherland \, deeply connecting with His spiritual legacy. \n \n\n\n\n\nThe program is created to introduce you to the immeasurable Guru’s contribution to humanity and the sacred place where His mission began.
URL:https://india.anandamarga.org/event/babas-years-in-jamalpur-international-conference-at-babas-birthplace/
LOCATION:Ananda Sambhuti Master Unit\, Babanagar\, Jamalpur\, Ánanda Sambhuti Master Unit\, Amjhar Kolkali Road\, PO Dharhara Jamalpur Munger District Bihar 811212\, India\, Jamalpur\, Bihar\, 811212\, India
CATEGORIES:Ananda Marga International Conference
ATTACH;FMTTYPE=image/jpeg:https://india.anandamarga.org/wp-content/uploads/2025/05/499672936_1013428257572659_6602453931723661826_n.jpg
END:VEVENT
END:VCALENDAR