BEGIN:VCALENDAR
VERSION:2.0
PRODID:-//Ananda Marga - ECPv6.15.20//NONSGML v1.0//EN
CALSCALE:GREGORIAN
METHOD:PUBLISH
X-WR-CALNAME:Ananda Marga
X-ORIGINAL-URL:https://india.anandamarga.org
X-WR-CALDESC:Events for Ananda Marga
REFRESH-INTERVAL;VALUE=DURATION:PT1H
X-Robots-Tag:noindex
X-PUBLISHED-TTL:PT1H
BEGIN:VTIMEZONE
TZID:UTC
BEGIN:STANDARD
TZOFFSETFROM:+0000
TZOFFSETTO:+0000
TZNAME:UTC
DTSTART:20230101T000000
END:STANDARD
END:VTIMEZONE
BEGIN:VEVENT
DTSTART;VALUE=DATE:20240513
DTEND;VALUE=DATE:20240518
DTSTAMP:20260422T064044
CREATED:20240331T125843Z
LAST-MODIFIED:20240331T153132Z
UID:2524-1715558400-1715990399@india.anandamarga.org
SUMMARY:Ananda Marga Gurukul Summer Camp
DESCRIPTION:Ananda Marga Gurukul Summer Camp \nCamp Theme: “Inner and Outer Harmony” as per Neo-Humanist Education (Ananda Marga Gurukul System) \nCamp will be conducted at 2 locations:\n1. Ananda Marga School\, Kammagondahalli\, Bengaluru from 13May till 17May(Daily)\n2. Bren Unity C-201\, 10-April to 30-April(Monday Wednesday and Friday) \nTiming: 10:00 AM to 3:00 PM IST\nParticipant Age: 5 to 11 years \nRegistration Fee: Rs.200 only for entire session. Nominal fee is charged which will be donated in its entirety to Ananda Marga Gurukul for social cause. \nClick here for Registration \nPayment Mode: GPay or Phonepay to +91 9810339150 \n \n 
URL:https://india.anandamarga.org/event/ananda-marga-gurukul-summer-camp/
LOCATION:Ananda Marga School BANGALORE\, 115\, Kammagondana Halli Main Rd\, Kammagondahalli\, Jalahalli\, Bengaluru\, Karnataka 560015\, Bangalore\, Karnataka\, 560015\, India
CATEGORIES:Ananda Marga Gurukula
ATTACH;FMTTYPE=image/jpeg:https://india.anandamarga.org/wp-content/uploads/2024/03/Untitled-design-1.jpg
ORGANIZER;CN="Ananda Marga Gurukula":MAILTO:kulapati@gurukul.edu
END:VEVENT
END:VCALENDAR