BEGIN:VCALENDAR
VERSION:2.0
PRODID:-//Ananda Marga - ECPv6.15.20//NONSGML v1.0//EN
CALSCALE:GREGORIAN
METHOD:PUBLISH
X-WR-CALNAME:Ananda Marga
X-ORIGINAL-URL:https://india.anandamarga.org
X-WR-CALDESC:Events for Ananda Marga
REFRESH-INTERVAL;VALUE=DURATION:PT1H
X-Robots-Tag:noindex
X-PUBLISHED-TTL:PT1H
BEGIN:VTIMEZONE
TZID:UTC
BEGIN:STANDARD
TZOFFSETFROM:+0000
TZOFFSETTO:+0000
TZNAME:UTC
DTSTART:20230101T000000
END:STANDARD
END:VTIMEZONE
BEGIN:VEVENT
DTSTART;VALUE=DATE:20240930
DTEND;VALUE=DATE:20241009
DTSTAMP:20260419T161658
CREATED:20240310T130529Z
LAST-MODIFIED:20240310T130529Z
UID:2500-1727654400-1728431999@india.anandamarga.org
SUMMARY:Kiirtan Divas Celebration at Kiirtan Nagar Amjharia
DESCRIPTION:8 Days Akhand Kiirtan will take place at Kiirtan Nagar Amjharia from September 30th to October 8th\, 2024. All devotees are cordially invited to join us at Kiirtan Nagar to celebrate the auspicious occasion of Kiirtan Divas on October 8th.
URL:https://india.anandamarga.org/event/kiirtan-divas-celebration-at-kiirtan-nagar-amjharia/
LOCATION:Kiirtan Nagar Amjharia\, Kiirtan Nagar Amjharia\, Chandwa Latehar\, Amjharia\, Jharkhand\, 829210\, India
CATEGORIES:Kiirtan Divas 8th October,Seva Dharma Mission
ATTACH;FMTTYPE=image/jpeg:https://india.anandamarga.org/wp-content/uploads/2024/03/WhatsApp-Image-2024-03-10-at-6.28.50-PM-1.jpeg
END:VEVENT
END:VCALENDAR