BEGIN:VCALENDAR
VERSION:2.0
PRODID:-//Ananda Marga - ECPv6.15.20//NONSGML v1.0//EN
CALSCALE:GREGORIAN
METHOD:PUBLISH
X-WR-CALNAME:Ananda Marga
X-ORIGINAL-URL:https://india.anandamarga.org
X-WR-CALDESC:Events for Ananda Marga
REFRESH-INTERVAL;VALUE=DURATION:PT1H
X-Robots-Tag:noindex
X-PUBLISHED-TTL:PT1H
BEGIN:VTIMEZONE
TZID:UTC
BEGIN:STANDARD
TZOFFSETFROM:+0000
TZOFFSETTO:+0000
TZNAME:UTC
DTSTART:20230101T000000
END:STANDARD
END:VTIMEZONE
BEGIN:VEVENT
DTSTART;VALUE=DATE:20240126
DTEND;VALUE=DATE:20240219
DTSTAMP:20260421T232436
CREATED:20240106T135913Z
LAST-MODIFIED:20240106T141815Z
UID:2210-1706227200-1708300799@india.anandamarga.org
SUMMARY:1st Phase 1st Diocese Seminar January 2024
DESCRIPTION:Ananda Marga Pracaraka Samgha is organizing the inaugural phase of the 1st Diocese Seminar across the Delhi Sector starting from 26th January 2024. These seminars will be held in various circles and dioceses. Margiis are earnestly urged to attend the seminar within their respective diocesan areas and actively undertake duties and responsibilities for organizing similar seminars at the local bhukti\, block\, and unit levels. Attendance at these seminars is essential for Margiis as part of adhering to the 16 Points rule. \nShrii Shrii Anandamurti Ji emphasized the significance of Ananda Marga seminars as a means of spiritual upliftment and collective progress. He emphasized their role in fostering unity\, sharing knowledge\, and strengthening individual and collective spiritual practices. These seminars serve as platforms for discussing socio-spiritual topics\, encouraging personal growth\, and fostering a sense of community among participants. \nSeminar Dates and Places\n\n\n\n\n	\n\n\n\n\n	Hinterland DiocesePlaceDateTradeTrainer\n\n\n	KOLKATA Circle\n\n\n	Hoogly\, Vardhman and Dumka DioSahebganj24\,25\,26 JanEAc Nabhatitananda Avt\n\n\n	Tata\,Bankura\,Muri and Midanapur DioTata nagar7\,8\,9 FebEAc Nabhatitananda Avt\n\n\n	BBSR Circle\n\n\n	Sambalpur\, Ganjam\,\n\n\n	Bhubeneshwar and Baripada DioSambhalpur1 Jan\, 1Feb\, 2 FebEAc. Sampurnananda Avt.\n\n\n	SHILONG Circle\n\n\n	Lamding\, Gohati and Kohima dio.Kalyanpur14\, 15\, 16 FebEAc. Vrajgopalananda Avt\n\n\n	PATNA Circle\n\n\n	Bhagalpur Dio.Ghogha24\, 25\, 26 JanEAc. Satyashrayananda Avt.\n\n\n	Saharsa Dio.Arariya31 Jan\, 1\, 2 FebEAc. Satyashrayananda Avt.\n\n\n	Betia\, Darbhanga\, Muzaffarpur dioMujjafarpur7\, 8\, 9 FebEAc. Rudraprakashananda Avt.\n\n\n	Patna and Ara dio.Jahanabad14\, 15\, 16 FebEAc. Nabhatiitananda Avt.\n\n\n	Ranchi and Gaya dio.Medininagar7\, 8\, 9 FebEAc. Punyeshananda Avt.\n\n\n	BHOPAL Circle\n\n\n	Raipur and Bilaspur dio.Ambikapur7\, 8\, 9 FebMUAc. Susmitananda Avt.\n\n\n	Jabalpur\, Sagar and Rewa dio.Singrauli31 Jan\, 1\, 2 FebEAc. Raganugananda Avt.\n\n\n	Bhopal\, Rajgarh\,Betul\,Indore\, Ujjain DioIndore14\, 15\, 16 FebEAc. Kalyanmitrananda Avt\n\n\n	Gwalior and Shivpuri dio.Gwalior7\, 8\, 9 FebEAc. Kalyanmitrananda Avt\n\n\n	KANPUR Circle\n\n\n	Prayagraj and Varanasi dio.Prayagraj14\, 15\, 16 FebE Ac. Mantracaitanyánanda Av\n\n\n	Gorakhpur\, Ayodhya and Lucknow DioLucknow7\, 8\, 9 FebEAc. Mantracaitanyánanda Av\n\n\n	Kanpur\,Agra\,and Jhansi dio.Jhansi31 Jan\, 1\, 2 FebEAc. Siddhavidyananda Avt\n\n\n	Meerut\,Bareilly\,Nainital\,U.Kashi DioMeerut24\, 25\, 26 JanEAc. Siddhavidyananda Avt\n\n\n	CHANDIGARH Circle\n\n\n	Delhi\,Rohatak and Hissar DioDelhi31 Jan\, 1 & 2 FebEAc Nabhatitananda Avt\n\n\n	Amritsar\,Firozpur\,Chd.\,Kurukshetra DioAmritsar31 Jan\, 1 & 2 FebEAc. Dharmaviirananda Avt.\n\n\n	SHIMLA Circle\n\n\n	Bilaspur\,Kul and Shimala dio.Jahu7\, 8\, 9 FebEAc. Satyashrayananda Avt.\n\n\n	SRINAGAR Circle\n\n\n	Jammu\,Shrinagar and Kathua dio.Jammu14\, 15\, 16 FebEAc. Satyashrayananda Avt.\n\n\n	JAIPUR Circle\n\n\n	Jaipur\,Kota and Bikaner dio.Hindaun24\, 25\, 26 JanEAc. Siddheshvarananda Avt.\n\n\n	Ajmer\,Jodhpur and Udaipur dio.Udaypur31 Jan\, 1\, 2 FebEAc. Priyatoshananda Avt.\n\n\n	AHMEDABAD Circle\n\n\n	Rajkot\,Mahisana Bhavnagar\n\n\n	Surat\, Barodara\, and Ahmedabad dio.Gandhidham14\, 15\, 16 FebEAc. Susmitananda Avt.\n\n\n	MUMBAI Circle\n\n\n	Nagpur\, Amarawati & Akola DioGondiya24\, 25\, 26 JanEAc. Priyatoshananda Avt.\n\n\n	Solapur\,Kolhapur\,Mub.\,Pune\, NasikPune7\, 8\, 9 FebEAc. Sampurnananda Avt.\n\n\n	HYDERABAD Circle\n\n\n	Hydrabad\, Anantpur\, Karimnagar\,\n\n\n	Vaizag and Nallore dio.Hyderabad14\, 15\, 16 FebEAc. Sampurnananda Avt\n\n\n	BANGALORE Circle\n\n\n	Gulbarga\,Dharwar\,Simoga\n\n\n	Bangalore\, Mysore and Kollar dio.Mysore31 Jan\, 1\, 2 FebEAc. Krpamayananda Avt.\n\n\n	CHENNAI Circle\n\n\n	Chennai\, Chingalpet \,Salem\n\n\n	Coimbatore\, and Madurai dioChennai14\, 15\, 16 FebEAc. Krpamayananda Avt.\n\n\n	TVM. Circle\n\n\n	Trivendram\, Ernakulam and CalicutTrichur7\, 8\, 9 FebEAc. Parmananda Avt.\n\n\n	KATHMANDU Circle\n\n\n	Kathmandu DioBharatpur31 Jan\, 1\, 2 FebEAc. Kalyanmitrananda Avt\n\n\n	DHAKA Circle\n\n\n	Dhaka dioDhaka31 Jan\, 1\, 2 FebEAc Sujitananda Avt\n\n\n	Raj Shahi and Rangpur dio.Rangpur14\, 15\, 16 FebEAc Sujitananda Avt\n\n\n	Khulna dio.Narail24\, 25\, 26 JanEAc Sujitananda Avt\n\n\n	Syllet and Chitagong dio.Chittagong7\, 8\, 9 FebEAc Sujitananda Avt
URL:https://india.anandamarga.org/event/1st-phase-1st-diocese-seminar-january-2024/
LOCATION:Delhi Sector
CATEGORIES:Seminar
ATTACH;FMTTYPE=image/jpeg:https://india.anandamarga.org/wp-content/uploads/2023/07/WhatsApp-Image-2023-07-10-at-10.05.30-PM-1.jpeg
END:VEVENT
END:VCALENDAR